BEGIN:VCALENDAR
VERSION:2.0
PRODID:-//NetAuktion//NONSGML NetAuktion//SV
METHOD:PUBLISH
BEGIN:VEVENT
UID:20260421T104254-1268596110-netauktion.se
DTSTAMP:20260421T104254
DTSTART:20080627T022600
DTEND:20080627T022900
SUMMARY:Netauktion objekt 0054-027 Auktionspåminnelse
DESCRIPTION:Länk till objektet du var intresserad av: https://staging.netauktion.se/auktion/produkt/45st-broderier-varsommarhostvinter
END:VEVENT
END:VCALENDAR
