BEGIN:VCALENDAR
VERSION:2.0
PRODID:-//NetAuktion//NONSGML NetAuktion//SV
METHOD:PUBLISH
BEGIN:VEVENT
UID:20260421T102834-951068061-netauktion.se
DTSTAMP:20260421T102834
DTSTART:20131230T021700
DTEND:20131230T022000
SUMMARY:Netauktion objekt 1661-001 Auktionspåminnelse
DESCRIPTION:Länk till objektet du var intresserad av: https://staging.netauktion.se/auktion/produkt/kompaktlastare-case-1840-4x4-renoveringsobjekt
END:VEVENT
END:VCALENDAR
