BEGIN:VCALENDAR
VERSION:2.0
PRODID:-//NetAuktion//NONSGML NetAuktion//SV
METHOD:PUBLISH
BEGIN:VEVENT
UID:20260421T104310-1993818766-netauktion.se
DTSTAMP:20260421T104310
DTSTART:20080627T022700
DTEND:20080627T023000
SUMMARY:Netauktion objekt 0054-028 Auktionspåminnelse
DESCRIPTION:Länk till objektet du var intresserad av: https://staging.netauktion.se/auktion/produkt/35st-broderier-varsommarhostvinter
END:VEVENT
END:VCALENDAR
