BEGIN:VCALENDAR
VERSION:2.0
PRODID:-//NetAuktion//NONSGML NetAuktion//SV
METHOD:PUBLISH
BEGIN:VEVENT
UID:20260425T122336-961619874-netauktion.se
DTSTAMP:20260425T122336
DTSTART:20131218T030500
DTEND:20131218T030800
SUMMARY:Netauktion objekt 1146-659 Auktionspåminnelse
DESCRIPTION:Länk till objektet du var intresserad av: https://staging.netauktion.se/auktion/produkt/silversmycken-are-by-night-smink-klocka-3
END:VEVENT
END:VCALENDAR
