BEGIN:VCALENDAR
VERSION:2.0
PRODID:-//NetAuktion//NONSGML NetAuktion//SV
METHOD:PUBLISH
BEGIN:VEVENT
UID:20260425T135428-784048831-netauktion.se
DTSTAMP:20260425T135428
DTSTART:20131218T030200
DTEND:20131218T030500
SUMMARY:Netauktion objekt 1146-660 Auktionspåminnelse
DESCRIPTION:Länk till objektet du var intresserad av: https://staging.netauktion.se/auktion/produkt/silversmycken-are-by-night-smink-klocka-5
END:VEVENT
END:VCALENDAR
