BEGIN:VCALENDAR
VERSION:2.0
PRODID:-//NetAuktion//NONSGML NetAuktion//SV
METHOD:PUBLISH
BEGIN:VEVENT
UID:20260425T122450-1373477632-netauktion.se
DTSTAMP:20260425T122450
DTSTART:20131218T025900
DTEND:20131218T030200
SUMMARY:Netauktion objekt 1146-663 Auktionspåminnelse
DESCRIPTION:Länk till objektet du var intresserad av: https://staging.netauktion.se/auktion/produkt/silversmycken-are-by-night-nagellack-klocka-3-2
END:VEVENT
END:VCALENDAR
