BEGIN:VCALENDAR
VERSION:2.0
PRODID:-//NetAuktion//NONSGML NetAuktion//SV
METHOD:PUBLISH
BEGIN:VEVENT
UID:20260421T104441-1671400033-netauktion.se
DTSTAMP:20260421T104441
DTSTART:20131223T024100
DTEND:20131223T024400
SUMMARY:Netauktion objekt 1664-023 Auktionspåminnelse
DESCRIPTION:Länk till objektet du var intresserad av: https://staging.netauktion.se/auktion/produkt/7st-led-downlight-6w-2700k
END:VEVENT
END:VCALENDAR
