BEGIN:VCALENDAR
VERSION:2.0
PRODID:-//NetAuktion//NONSGML NetAuktion//SV
METHOD:PUBLISH
BEGIN:VEVENT
UID:20260425T122256-1573800157-netauktion.se
DTSTAMP:20260425T122256
DTSTART:20131218T024800
DTEND:20131218T025100
SUMMARY:Netauktion objekt 1146-666 Auktionspåminnelse
DESCRIPTION:Länk till objektet du var intresserad av: https://staging.netauktion.se/auktion/produkt/den-lilla-anarkisten-smink-3
END:VEVENT
END:VCALENDAR
