BEGIN:VCALENDAR
VERSION:2.0
PRODID:-//NetAuktion//NONSGML NetAuktion//SV
METHOD:PUBLISH
BEGIN:VEVENT
UID:20260425T123255-235273770-netauktion.se
DTSTAMP:20260425T123255
DTSTART:20131218T030700
DTEND:20131218T031000
SUMMARY:Netauktion objekt 1146-668 Auktionspåminnelse
DESCRIPTION:Länk till objektet du var intresserad av: https://staging.netauktion.se/auktion/produkt/den-stora-anarkisten-smink-ca-100st-artiklar
END:VEVENT
END:VCALENDAR
