BEGIN:VCALENDAR
VERSION:2.0
PRODID:-//NetAuktion//NONSGML NetAuktion//SV
METHOD:PUBLISH
BEGIN:VEVENT
UID:20260425T122154-801145609-netauktion.se
DTSTAMP:20260425T122154
DTSTART:20131218T031500
DTEND:20131218T031800
SUMMARY:Netauktion objekt 1146-670 Auktionspåminnelse
DESCRIPTION:Länk till objektet du var intresserad av: https://staging.netauktion.se/auktion/produkt/smink-viva-la-diva-ca-270st-artiklar
END:VEVENT
END:VCALENDAR
