BEGIN:VCALENDAR
VERSION:2.0
PRODID:-//NetAuktion//NONSGML NetAuktion//SV
METHOD:PUBLISH
BEGIN:VEVENT
UID:20260425T123434-990513441-netauktion.se
DTSTAMP:20260425T123434
DTSTART:20131218T024800
DTEND:20131218T025100
SUMMARY:Netauktion objekt 1146-671 Auktionspåminnelse
DESCRIPTION:Länk till objektet du var intresserad av: https://staging.netauktion.se/auktion/produkt/skinnvaska-trej-design-smink-viva-la-diva
END:VEVENT
END:VCALENDAR
