BEGIN:VCALENDAR
VERSION:2.0
PRODID:-//NetAuktion//NONSGML NetAuktion//SV
METHOD:PUBLISH
BEGIN:VEVENT
UID:20260425T123427-892328521-netauktion.se
DTSTAMP:20260425T123427
DTSTART:20131218T025600
DTEND:20131218T025900
SUMMARY:Netauktion objekt 1146-675 Auktionspåminnelse
DESCRIPTION:Länk till objektet du var intresserad av: https://staging.netauktion.se/auktion/produkt/lappglans-smycken-trej-design-niiice-mfl
END:VEVENT
END:VCALENDAR
