BEGIN:VCALENDAR
VERSION:2.0
PRODID:-//NetAuktion//NONSGML NetAuktion//SV
METHOD:PUBLISH
BEGIN:VEVENT
UID:20260425T122057-1033991593-netauktion.se
DTSTAMP:20260425T122057
DTSTART:20131218T031200
DTEND:20131218T031500
SUMMARY:Netauktion objekt 1146-677 Auktionspåminnelse
DESCRIPTION:Länk till objektet du var intresserad av: https://staging.netauktion.se/auktion/produkt/70st-julgranskulor-tripple-house
END:VEVENT
END:VCALENDAR
