BEGIN:VCALENDAR
VERSION:2.0
PRODID:-//NetAuktion//NONSGML NetAuktion//SV
METHOD:PUBLISH
BEGIN:VEVENT
UID:20260425T123448-168097949-netauktion.se
DTSTAMP:20260425T123448
DTSTART:20131218T030800
DTEND:20131218T031100
SUMMARY:Netauktion objekt 1146-680 Auktionspåminnelse
DESCRIPTION:Länk till objektet du var intresserad av: https://staging.netauktion.se/auktion/produkt/piercings-med-stall
END:VEVENT
END:VCALENDAR
