BEGIN:VCALENDAR
VERSION:2.0
PRODID:-//NetAuktion//NONSGML NetAuktion//SV
METHOD:PUBLISH
BEGIN:VEVENT
UID:20260421T102952-1886836226-netauktion.se
DTSTAMP:20260421T102952
DTSTART:20131220T013500
DTEND:20131220T013800
SUMMARY:Netauktion objekt 0837-009 Auktionspåminnelse
DESCRIPTION:Länk till objektet du var intresserad av: https://staging.netauktion.se/auktion/produkt/karmstol-och-bord
END:VEVENT
END:VCALENDAR
