BEGIN:VCALENDAR
VERSION:2.0
PRODID:-//NetAuktion//NONSGML NetAuktion//SV
METHOD:PUBLISH
BEGIN:VEVENT
UID:20260425T123426-1384057995-netauktion.se
DTSTAMP:20260425T123426
DTSTART:20131218T023500
DTEND:20131218T023800
SUMMARY:Netauktion objekt 1275-007 Auktionspåminnelse
DESCRIPTION:Länk till objektet du var intresserad av: https://staging.netauktion.se/auktion/produkt/symaskin-bord-goteborgs-historia
END:VEVENT
END:VCALENDAR
