BEGIN:VCALENDAR
VERSION:2.0
PRODID:-//NetAuktion//NONSGML NetAuktion//SV
METHOD:PUBLISH
BEGIN:VEVENT
UID:20260421T104444-593031034-netauktion.se
DTSTAMP:20260421T104444
DTSTART:20131230T020700
DTEND:20131230T021000
SUMMARY:Netauktion objekt 1661-018 Auktionspåminnelse
DESCRIPTION:Länk till objektet du var intresserad av: https://staging.netauktion.se/auktion/produkt/falsmaskin-platsax-skruvstad
END:VEVENT
END:VCALENDAR
