BEGIN:VCALENDAR
VERSION:2.0
PRODID:-//NetAuktion//NONSGML NetAuktion//SV
METHOD:PUBLISH
BEGIN:VEVENT
UID:20260421T102803-1628550134-netauktion.se
DTSTAMP:20260421T102803
DTSTART:20131230T022000
DTEND:20131230T022300
SUMMARY:Netauktion objekt 1661-020 Auktionspåminnelse
DESCRIPTION:Länk till objektet du var intresserad av: https://staging.netauktion.se/auktion/produkt/tapetbord-spackel-putsverktyg
END:VEVENT
END:VCALENDAR
