BEGIN:VCALENDAR
VERSION:2.0
PRODID:-//NetAuktion//NONSGML NetAuktion//SV
METHOD:PUBLISH
BEGIN:VEVENT
UID:20260425T122057-1535981409-netauktion.se
DTSTAMP:20260425T122057
DTSTART:20090521T024400
DTEND:20090521T024700
SUMMARY:Netauktion objekt 0201-223 Auktionspåminnelse
DESCRIPTION:Länk till objektet du var intresserad av: https://staging.netauktion.se/auktion/produkt/6-par-nya-simfenor-olika-modeller-och-storlekar
END:VEVENT
END:VCALENDAR
