BEGIN:VCALENDAR
VERSION:2.0
PRODID:-//NetAuktion//NONSGML NetAuktion//SV
METHOD:PUBLISH
BEGIN:VEVENT
UID:20260425T135429-1034469816-netauktion.se
DTSTAMP:20260425T135429
DTSTART:20090521T012400
DTEND:20090521T012700
SUMMARY:Netauktion objekt 0128-142 Auktionspåminnelse
DESCRIPTION:Länk till objektet du var intresserad av: https://staging.netauktion.se/auktion/produkt/parabol-anten-med-dubbla-reflektorer
END:VEVENT
END:VCALENDAR
