BEGIN:VCALENDAR
VERSION:2.0
PRODID:-//NetAuktion//NONSGML NetAuktion//SV
METHOD:PUBLISH
BEGIN:VEVENT
UID:20260425T134348-2122998105-netauktion.se
DTSTAMP:20260425T134348
DTSTART:20090521T025500
DTEND:20090521T025800
SUMMARY:Netauktion objekt 0201-229 Auktionspåminnelse
DESCRIPTION:Länk till objektet du var intresserad av: https://staging.netauktion.se/auktion/produkt/torrdrakt-northern-diver-fd-uthyrnings
END:VEVENT
END:VCALENDAR
