BEGIN:VCALENDAR
VERSION:2.0
PRODID:-//NetAuktion//NONSGML NetAuktion//SV
METHOD:PUBLISH
BEGIN:VEVENT
UID:20260425T123253-248503129-netauktion.se
DTSTAMP:20260425T123253
DTSTART:20090521T024600
DTEND:20090521T024900
SUMMARY:Netauktion objekt 0201-230  Auktionspåminnelse
DESCRIPTION:Länk till objektet du var intresserad av: https://staging.netauktion.se/auktion/produkt/ny-heavy-light-cordura-redq-fz
END:VEVENT
END:VCALENDAR
