BEGIN:VCALENDAR
VERSION:2.0
PRODID:-//NetAuktion//NONSGML NetAuktion//SV
METHOD:PUBLISH
BEGIN:VEVENT
UID:20260421T104306-1683945620-netauktion.se
DTSTAMP:20260421T104306
DTSTART:20090521T041100
DTEND:20090521T041400
SUMMARY:Netauktion objekt 0201-233 Auktionspåminnelse
DESCRIPTION:Länk till objektet du var intresserad av: https://staging.netauktion.se/auktion/produkt/poseidon-vesta-torrdrakt-strl-xl
END:VEVENT
END:VCALENDAR
