BEGIN:VCALENDAR
VERSION:2.0
PRODID:-//NetAuktion//NONSGML NetAuktion//SV
METHOD:PUBLISH
BEGIN:VEVENT
UID:20260425T123425-1072002333-netauktion.se
DTSTAMP:20260425T123425
DTSTART:20090521T023200
DTEND:20090521T023500
SUMMARY:Netauktion objekt 0201-238 Auktionspåminnelse
DESCRIPTION:Länk till objektet du var intresserad av: https://staging.netauktion.se/auktion/produkt/dykaccesoarer-b-la-knivar-3
END:VEVENT
END:VCALENDAR
