BEGIN:VCALENDAR
VERSION:2.0
PRODID:-//NetAuktion//NONSGML NetAuktion//SV
METHOD:PUBLISH
BEGIN:VEVENT
UID:20260425T123434-788405855-netauktion.se
DTSTAMP:20260425T123434
DTSTART:20090521T022300
DTEND:20090521T022600
SUMMARY:Netauktion objekt 0201-237 Auktionspåminnelse
DESCRIPTION:Länk till objektet du var intresserad av: https://staging.netauktion.se/auktion/produkt/dykaccesoarer-b-la-knivar
END:VEVENT
END:VCALENDAR
