BEGIN:VCALENDAR
VERSION:2.0
PRODID:-//NetAuktion//NONSGML NetAuktion//SV
METHOD:PUBLISH
BEGIN:VEVENT
UID:20260421T102855-56546995-netauktion.se
DTSTAMP:20260421T102855
DTSTART:20140331T024000
DTEND:20140331T024300
SUMMARY:Netauktion objekt 1707-002 Auktionspåminnelse
DESCRIPTION:Länk till objektet du var intresserad av: https://staging.netauktion.se/auktion/produkt/ford-focus-16-kombi-sda536-00
END:VEVENT
END:VCALENDAR
