BEGIN:VCALENDAR
VERSION:2.0
PRODID:-//NetAuktion//NONSGML NetAuktion//SV
METHOD:PUBLISH
BEGIN:VEVENT
UID:20260421T102933-2009539993-netauktion.se
DTSTAMP:20260421T102933
DTSTART:20140331T024700
DTEND:20140331T025000
SUMMARY:Netauktion objekt 1707-003 Auktionspåminnelse
DESCRIPTION:Länk till objektet du var intresserad av: https://staging.netauktion.se/auktion/produkt/daewoo-matiz-10-uek653-03
END:VEVENT
END:VCALENDAR
