BEGIN:VCALENDAR
VERSION:2.0
PRODID:-//NetAuktion//NONSGML NetAuktion//SV
METHOD:PUBLISH
BEGIN:VEVENT
UID:20260425T124443-1433100937-netauktion.se
DTSTAMP:20260425T124443
DTSTART:20090521T022800
DTEND:20090521T023100
SUMMARY:Netauktion objekt 0201-240 Auktionspåminnelse
DESCRIPTION:Länk till objektet du var intresserad av: https://staging.netauktion.se/auktion/produkt/nya-dykaccesoarer-b-la-handskar-samt-huvor-strl-m
END:VEVENT
END:VCALENDAR
