BEGIN:VCALENDAR
VERSION:2.0
PRODID:-//NetAuktion//NONSGML NetAuktion//SV
METHOD:PUBLISH
BEGIN:VEVENT
UID:20260425T134314-1825674151-netauktion.se
DTSTAMP:20260425T134314
DTSTART:20090521T022100
DTEND:20090521T022400
SUMMARY:Netauktion objekt 0201-247 Auktionspåminnelse
DESCRIPTION:Länk till objektet du var intresserad av: https://staging.netauktion.se/auktion/produkt/nytt-waterproof-understall-storlek-l-3
END:VEVENT
END:VCALENDAR
