BEGIN:VCALENDAR
VERSION:2.0
PRODID:-//NetAuktion//NONSGML NetAuktion//SV
METHOD:PUBLISH
BEGIN:VEVENT
UID:20260425T122154-1112416364-netauktion.se
DTSTAMP:20260425T122154
DTSTART:20090521T021900
DTEND:20090521T022200
SUMMARY:Netauktion objekt 0201-248 Auktionspåminnelse
DESCRIPTION:Länk till objektet du var intresserad av: https://staging.netauktion.se/auktion/produkt/nytt-waterproof-understall-storlek-xl
END:VEVENT
END:VCALENDAR
