BEGIN:VCALENDAR
VERSION:2.0
PRODID:-//NetAuktion//NONSGML NetAuktion//SV
METHOD:PUBLISH
BEGIN:VEVENT
UID:20260425T134348-1767796428-netauktion.se
DTSTAMP:20260425T134348
DTSTART:20090515T013600
DTEND:20090515T013900
SUMMARY:Netauktion objekt 0207-039 Auktionspåminnelse
DESCRIPTION:Länk till objektet du var intresserad av: https://staging.netauktion.se/auktion/produkt/parti-el-maskiner-och-verktyg
END:VEVENT
END:VCALENDAR
