BEGIN:VCALENDAR
VERSION:2.0
PRODID:-//NetAuktion//NONSGML NetAuktion//SV
METHOD:PUBLISH
BEGIN:VEVENT
UID:20260425T122022-440947481-netauktion.se
DTSTAMP:20260425T122022
DTSTART:20090521T025400
DTEND:20090521T025700
SUMMARY:Netauktion objekt 0201-249 Auktionspåminnelse
DESCRIPTION:Länk till objektet du var intresserad av: https://staging.netauktion.se/auktion/produkt/ny-aquatronix-watersport-vatdrakt-ml-man
END:VEVENT
END:VCALENDAR
