BEGIN:VCALENDAR
VERSION:2.0
PRODID:-//NetAuktion//NONSGML NetAuktion//SV
METHOD:PUBLISH
BEGIN:VEVENT
UID:20260425T135428-1626485373-netauktion.se
DTSTAMP:20260425T135428
DTSTART:20090521T025800
DTEND:20090521T030100
SUMMARY:Netauktion objekt 0201-251 Auktionspåminnelse
DESCRIPTION:Länk till objektet du var intresserad av: https://staging.netauktion.se/auktion/produkt/ny-aquatronix-watersport-vatdrakt-storl-ladies-m-3
END:VEVENT
END:VCALENDAR
