BEGIN:VCALENDAR
VERSION:2.0
PRODID:-//NetAuktion//NONSGML NetAuktion//SV
METHOD:PUBLISH
BEGIN:VEVENT
UID:20260425T135429-671158093-netauktion.se
DTSTAMP:20260425T135429
DTSTART:20090521T025300
DTEND:20090521T025600
SUMMARY:Netauktion objekt 0201-253 Auktionspåminnelse
DESCRIPTION:Länk till objektet du var intresserad av: https://staging.netauktion.se/auktion/produkt/ny-aquatronix-watersport-vatdrakt-strlml-man
END:VEVENT
END:VCALENDAR
