BEGIN:VCALENDAR
VERSION:2.0
PRODID:-//NetAuktion//NONSGML NetAuktion//SV
METHOD:PUBLISH
BEGIN:VEVENT
UID:20260421T104629-189443763-netauktion.se
DTSTAMP:20260421T104629
DTSTART:20140428T013400
DTEND:20140428T013700
SUMMARY:Netauktion objekt 1714-001 Auktionspåminnelse
DESCRIPTION:Länk till objektet du var intresserad av: https://staging.netauktion.se/auktion/produkt/kassaregister-casio-se-s300-2
END:VEVENT
END:VCALENDAR
