BEGIN:VCALENDAR
VERSION:2.0
PRODID:-//NetAuktion//NONSGML NetAuktion//SV
METHOD:PUBLISH
BEGIN:VEVENT
UID:20260421T104304-849229671-netauktion.se
DTSTAMP:20260421T104304
DTSTART:20090528T021900
DTEND:20090528T022200
SUMMARY:Netauktion objekt 0207-040 Auktionspåminnelse
DESCRIPTION:Länk till objektet du var intresserad av: https://staging.netauktion.se/auktion/produkt/urnor-med-lock-1-par-kina
END:VEVENT
END:VCALENDAR
