BEGIN:VCALENDAR
VERSION:2.0
PRODID:-//NetAuktion//NONSGML NetAuktion//SV
METHOD:PUBLISH
BEGIN:VEVENT
UID:20260421T102706-279528062-netauktion.se
DTSTAMP:20260421T102706
DTSTART:20090528T021300
DTEND:20090528T021600
SUMMARY:Netauktion objekt 0207-041 Auktionspåminnelse
DESCRIPTION:Länk till objektet du var intresserad av: https://staging.netauktion.se/auktion/produkt/penselvas-kina
END:VEVENT
END:VCALENDAR
