BEGIN:VCALENDAR
VERSION:2.0
PRODID:-//NetAuktion//NONSGML NetAuktion//SV
METHOD:PUBLISH
BEGIN:VEVENT
UID:20260421T104310-986622921-netauktion.se
DTSTAMP:20260421T104310
DTSTART:20090528T020100
DTEND:20090528T020400
SUMMARY:Netauktion objekt 0207-042 Auktionspåminnelse
DESCRIPTION:Länk till objektet du var intresserad av: https://staging.netauktion.se/auktion/produkt/figurer-1-par-staffordshire-england
END:VEVENT
END:VCALENDAR
