BEGIN:VCALENDAR
VERSION:2.0
PRODID:-//NetAuktion//NONSGML NetAuktion//SV
METHOD:PUBLISH
BEGIN:VEVENT
UID:20260421T103004-1892324421-netauktion.se
DTSTAMP:20260421T103004
DTSTART:20140130T011900
DTEND:20140130T012200
SUMMARY:Netauktion objekt 1199-153 Auktionspåminnelse
DESCRIPTION:Länk till objektet du var intresserad av: https://staging.netauktion.se/auktion/produkt/power-supply-manson
END:VEVENT
END:VCALENDAR
