BEGIN:VCALENDAR
VERSION:2.0
PRODID:-//NetAuktion//NONSGML NetAuktion//SV
METHOD:PUBLISH
BEGIN:VEVENT
UID:20260421T104446-1447827229-netauktion.se
DTSTAMP:20260421T104446
DTSTART:20140130T012900
DTEND:20140130T013200
SUMMARY:Netauktion objekt 1541-004 Auktionspåminnelse
DESCRIPTION:Länk till objektet du var intresserad av: https://staging.netauktion.se/auktion/produkt/verkstadsvagn-med-stallbar-hojd
END:VEVENT
END:VCALENDAR
