BEGIN:VCALENDAR
VERSION:2.0
PRODID:-//NetAuktion//NONSGML NetAuktion//SV
METHOD:PUBLISH
BEGIN:VEVENT
UID:20260421T102746-2144311027-netauktion.se
DTSTAMP:20260421T102746
DTSTART:20090528T015900
DTEND:20090528T020200
SUMMARY:Netauktion objekt 0207-047 Auktionspåminnelse
DESCRIPTION:Länk till objektet du var intresserad av: https://staging.netauktion.se/auktion/produkt/glasservisdelar-omkring-sekelskiftet-1900
END:VEVENT
END:VCALENDAR
