BEGIN:VCALENDAR
VERSION:2.0
PRODID:-//NetAuktion//NONSGML NetAuktion//SV
METHOD:PUBLISH
BEGIN:VEVENT
UID:20260421T104359-1379750680-netauktion.se
DTSTAMP:20260421T104359
DTSTART:20140130T175700
DTEND:20140130T180000
SUMMARY:Netauktion objekt 1725-005 Auktionspåminnelse
DESCRIPTION:Länk till objektet du var intresserad av: https://staging.netauktion.se/auktion/produkt/kontorsmoblemang-5
END:VEVENT
END:VCALENDAR
