BEGIN:VCALENDAR
VERSION:2.0
PRODID:-//NetAuktion//NONSGML NetAuktion//SV
METHOD:PUBLISH
BEGIN:VEVENT
UID:20260421T102833-1639911173-netauktion.se
DTSTAMP:20260421T102833
DTSTART:20140130T015000
DTEND:20140130T015300
SUMMARY:Netauktion objekt 1444-001 Auktionspåminnelse
DESCRIPTION:Länk till objektet du var intresserad av: https://staging.netauktion.se/auktion/produkt/migatronic-mig-svets-kme-400
END:VEVENT
END:VCALENDAR
