BEGIN:VCALENDAR
VERSION:2.0
PRODID:-//NetAuktion//NONSGML NetAuktion//SV
METHOD:PUBLISH
BEGIN:VEVENT
UID:20260421T102746-1510407628-netauktion.se
DTSTAMP:20260421T102746
DTSTART:20140130T015400
DTEND:20140130T015700
SUMMARY:Netauktion objekt 1444-004 Auktionspåminnelse
DESCRIPTION:Länk till objektet du var intresserad av: https://staging.netauktion.se/auktion/produkt/2st-hylsnyckelsatser-armstrong
END:VEVENT
END:VCALENDAR
