BEGIN:VCALENDAR
VERSION:2.0
PRODID:-//NetAuktion//NONSGML NetAuktion//SV
METHOD:PUBLISH
BEGIN:VEVENT
UID:20260421T102743-2015107267-netauktion.se
DTSTAMP:20260421T102743
DTSTART:20090521T031500
DTEND:20090521T031800
SUMMARY:Netauktion objekt 0201-298 Auktionspåminnelse
DESCRIPTION:Länk till objektet du var intresserad av: https://staging.netauktion.se/auktion/produkt/nytt-dykunderstall-scubaproman-strl-s
END:VEVENT
END:VCALENDAR
