BEGIN:VCALENDAR
VERSION:2.0
PRODID:-//NetAuktion//NONSGML NetAuktion//SV
METHOD:PUBLISH
BEGIN:VEVENT
UID:20260421T102637-527308233-netauktion.se
DTSTAMP:20260421T102637
DTSTART:20140131T020400
DTEND:20140131T020700
SUMMARY:Netauktion objekt 1729-001 Auktionspåminnelse
DESCRIPTION:Länk till objektet du var intresserad av: https://staging.netauktion.se/auktion/produkt/vw-pick-up-25-tdi-rpj447-00-2
END:VEVENT
END:VCALENDAR
