BEGIN:VCALENDAR
VERSION:2.0
PRODID:-//NetAuktion//NONSGML NetAuktion//SV
METHOD:PUBLISH
BEGIN:VEVENT
UID:20260421T104320-1799346716-netauktion.se
DTSTAMP:20260421T104320
DTSTART:20140331T023300
DTEND:20140331T023600
SUMMARY:Netauktion objekt 1511-004 Auktionspåminnelse
DESCRIPTION:Länk till objektet du var intresserad av: https://staging.netauktion.se/auktion/produkt/eu-moped-yiying-xnw527-06
END:VEVENT
END:VCALENDAR
