BEGIN:VCALENDAR
VERSION:2.0
PRODID:-//NetAuktion//NONSGML NetAuktion//SV
METHOD:PUBLISH
BEGIN:VEVENT
UID:20260425T122043-402971086-netauktion.se
DTSTAMP:20260425T122043
DTSTART:20090521T030800
DTEND:20090521T031100
SUMMARY:Netauktion objekt 0201-302 Auktionspåminnelse
DESCRIPTION:Länk till objektet du var intresserad av: https://staging.netauktion.se/auktion/produkt/nya-dysaker-b-la-dykshorts-i-neoprene-3
END:VEVENT
END:VCALENDAR
