BEGIN:VCALENDAR
VERSION:2.0
PRODID:-//NetAuktion//NONSGML NetAuktion//SV
METHOD:PUBLISH
BEGIN:VEVENT
UID:20260425T123244-920022546-netauktion.se
DTSTAMP:20260425T123244
DTSTART:20090521T030600
DTEND:20090521T030900
SUMMARY:Netauktion objekt 0201-304 Auktionspåminnelse
DESCRIPTION:Länk till objektet du var intresserad av: https://staging.netauktion.se/auktion/produkt/nya-dykacceosarer-ficklampa-samt-dykvaska-3
END:VEVENT
END:VCALENDAR
