BEGIN:VCALENDAR
VERSION:2.0
PRODID:-//NetAuktion//NONSGML NetAuktion//SV
METHOD:PUBLISH
BEGIN:VEVENT
UID:20260425T134349-314494518-netauktion.se
DTSTAMP:20260425T134349
DTSTART:20090521T010600
DTEND:20090521T010900
SUMMARY:Netauktion objekt 0228-032 Auktionspåminnelse
DESCRIPTION:Länk till objektet du var intresserad av: https://staging.netauktion.se/auktion/produkt/diverse-bets-mm
END:VEVENT
END:VCALENDAR
